BEGIN:VCALENDAR
VERSION:2.0
PRODID:-//Pregnancy Help | Pregnancy Clinics Near Me | Prestonwood - ECPv6.15.18//NONSGML v1.0//EN
CALSCALE:GREGORIAN
METHOD:PUBLISH
X-ORIGINAL-URL:https://prestonwoodpregnancy.org
X-WR-CALDESC:Events for Pregnancy Help | Pregnancy Clinics Near Me | Prestonwood
REFRESH-INTERVAL;VALUE=DURATION:PT1H
X-Robots-Tag:noindex
X-PUBLISHED-TTL:PT1H
BEGIN:VTIMEZONE
TZID:America/Chicago
BEGIN:DAYLIGHT
TZOFFSETFROM:-0600
TZOFFSETTO:-0500
TZNAME:CDT
DTSTART:20240310T080000
END:DAYLIGHT
BEGIN:STANDARD
TZOFFSETFROM:-0500
TZOFFSETTO:-0600
TZNAME:CST
DTSTART:20241103T070000
END:STANDARD
BEGIN:DAYLIGHT
TZOFFSETFROM:-0600
TZOFFSETTO:-0500
TZNAME:CDT
DTSTART:20250309T080000
END:DAYLIGHT
BEGIN:STANDARD
TZOFFSETFROM:-0500
TZOFFSETTO:-0600
TZNAME:CST
DTSTART:20251102T070000
END:STANDARD
BEGIN:DAYLIGHT
TZOFFSETFROM:-0600
TZOFFSETTO:-0500
TZNAME:CDT
DTSTART:20260308T080000
END:DAYLIGHT
BEGIN:STANDARD
TZOFFSETFROM:-0500
TZOFFSETTO:-0600
TZNAME:CST
DTSTART:20261101T070000
END:STANDARD
END:VTIMEZONE
BEGIN:VEVENT
DTSTART;TZID=America/Chicago:20250826T160000
DTEND;TZID=America/Chicago:20250826T170000
DTSTAMP:20260424T084714
CREATED:20250806T181006Z
LAST-MODIFIED:20250806T181006Z
UID:10002111-1756224000-1756227600@prestonwoodpregnancy.org
SUMMARY:Managing Money Part 2 | Fort Worth
DESCRIPTION:This class will provide an introduction to managing money. It will introduce basic home budgeting concepts which include seven steps to financial freedom. \n\n\n                \n                        \n                            Register for an in-person class\n                             \n                        \n                        Name of Class You Are Signing Up For(Required)Name of Class You Are Signing Up ForApril Storytime For Kids - Resource CenterBaby Development Milestones - Fort WorthBaby Development Milestones - SouthwestBaby Talk – Resource CenterBasic Finances Session 1: Debt - Resource CenterBasic Finances Session 2: Savings - Resource CenterBasic Finances Session 3: Spending Plan - Resource CenterBath and Sleep Safety - Resource CenterBrilla - Resource CenterBuilding Your Baby's Schedule - Resource CenterCar Seat Safety - Resource CenterChildproofing Your Home - Fort WorthChristmas Storybook Reading for Kids - Fort WorthCPR & Choking Response - Resource CenterCPR & Choking Response - SouthwestCouples' Enrichment Class - SouthwestCreative Journaling for Moms - Fort WorthCreative Journaling for Moms - Resource CenterDelivery Room Support: A Guide for Loved Ones or Dads - Resource CenterDelivery Room Support: A Guide for Loved Ones or Dads - SouthwestEating For Your Baby - Fort WorthEngage Parenting - Resource CenterFebruary Storytime For Kids - Resource CenterFight Back Against Stress - Resource CenterFight Back Against Stress - Fort WorthFinancial Literacy for Young Women - Resource CenterFreezer Meals - Fort WorthHospital Essentials - SouthwestHow Your Baby Learns - Resource CenterHow Your Toddler Learns - Resource CenterIncrementar el efectivo y eliminar las deudas - Fort WorthIncrementar el efectivo y eliminar las deudas - Resource CenterIncrementar el efectivo y eliminar las deudas - SouthwestInterview Skills – Resource CenterInfant Formula Safety - SouthwestJanuary Storytime For Kids - Resource CenterJourney to Fatherhood - Resource CenterJune Storytime For Kids - Resource CenterLactancia Clase #1 - Resource CenterLactancia Clase #2 - Resource CenterLactancia Clase #3 - Resource CenterLet's Get Organized - SouthwestManaging Money Part #1 of 3 - Fort WorthManaging Money Part #2 of 3 - Fort WorthMarch Storytime For Kids - Resource CenterMay Storytime For Kids - Resource CenterMatters of the Heart - SouthwestMedicaid Matters - Resource CenterMedicaid Matters - SouthwestMothergood Newborn Foundations Class - Resource CenterNatural Tips to Support Healthy Sleep - Fort WorthNatural Tips to Support Healthy Sleep - Resource CenterParenting Skills - SouthwestPreparing Financially to Buy A Home - Resource CenterRaising a Reader - Resource CenterRelationship Safety - Resource CenterRelationships #1 – Resource CenterRelationships #2 – Resource CenterRelationships #3 – Resource CenterResume Building - Resource CenterRooted Parenthood Session 2 - Resource CenterRooted Parenthood Session 3 - Resource CenterRooted Parenthood Session 4 - Resource CenterRooted Parenthood Session 5 - Resource CenterRooted Parenthood Session 6 - Resource CenterRooted Parenthood - SouthwestSeguridad Del Niño Pasajero - Resource CenterSelf-Care - Fort WorthSelf-Care - Resource CenterSelf-Care - SouthwestSmart Kids\, Smart Nutrition - Resource CenterSocial Media & Virtual Awareness - Resource CenterStaying Grounded and Looking Ahead - Fort WorthSuper Siblings - SouthwestSleep Baby Safety - SouthwestStaying Grounded and Looking Ahead - Fort WorthSwaddling Baby - SouthwestSwaddling Baby - Fort WorthThankful Hearts Craft - Fort WorthThe Bump Life - Resource CenterThe Bump Life - Fort WorthThe Parent Café - Resource CenterThe Power of Forgiveness - SouthwestThe Power of Kindness - SouthwestThe Power of Play - SouthwestTreasured Memories Craft - Fort WorthWalk & Talk 5.1 | Resource CenterWalk & Talk 5.2 | Resource CenterWhat's In Your Hospital Bag? - SouthwestWhen Babies Cry We C.O.P.E. - Fort WorthYo Puedo Hacerlo!- Resource CenterDate(Required)\n                            \n                            MM slash DD slash YYYY\n                        \n                        First Name(Required)Last Name(Required)Date of Birth(Required)\n                            \n                            MM slash DD slash YYYY\n                        \n                        Phone(Required)Email(Required)\n                            \n                        If another adult is attending the class with you\, please tell us their name below.First NameLast NameDate\n                            \n                            MM slash DD slash YYYY\n                        \n                        PhoneIf you listed someone above\, what is their relationship to you?Are you bringing any children? If so\, how many?
URL:https://prestonwoodpregnancy.org/class/managing-money-part-2-fort-worth/
LOCATION:Fort Worth\, 4732 Townsend Drive\, Fort Worth\, 76115\, United States
CATEGORIES:In Person,Register for an in-person
END:VEVENT
BEGIN:VEVENT
DTSTART;TZID=America/Chicago:20250826T183000
DTEND;TZID=America/Chicago:20250826T193000
DTSTAMP:20260424T084714
CREATED:20250624T100951Z
LAST-MODIFIED:20250701T142043Z
UID:10002082-1756233000-1756236600@prestonwoodpregnancy.org
SUMMARY:Como Ayudar a mi bebé a Dormir Parte I | En línea
DESCRIPTION:Es maravilloso ver a los bebés descansar\, parecen angelitos completamente relajados. Al igual que los adultos\, los bebés también necesitan una cantidad adecuada de horas de sueño para su desarrollo. Cuando duermen\, su cerebro consolida la información aprendida durante el día\, lo que es fundamental para su desarrollo cognitivo. Sin embargo\, lograr que los bebés duerman bien puede ser todo un desafío para los padres. Aquí algunos consejos prácticos para ayudarles a establecer buenos hábitos de sueño. \n\n                \n                        \n                            Register for an online class\n                             \n                        \n                        Name of Class You Are Signing Up For(Required)Name of Class You Are Signing Up ForBasic Budgeting - OnlineBeginning to Birth - OnlineBreastfeeding 101 - OnlineComo Ayudar a mi bebé a Dormir Parte I - En líneaComo Ayudar a mi Bebé a Dormir Parte II - En líneaDepresión Post Parto - En líneaDesarrollo del Cerebro del Bebe - En líneaFatherhood 101 - OnlineFoundations of Fatherhood - OnlineLa Primera Semana del Bebe: Parte 1 - En líneaLa Primera Semana del Bebe: Parte 2 - En líneaLabor & Delivery - OnlineLenguaje de Senales Para Mama y Bebe - En líneaLinkedIn 101 - OnlineMastering LinkedIn - OnlineNutrition & Exercise - OnlineParenting Boys With Confidence - OnlinePositive Parenting - OnlinePost-Partum & Newborn Care - OnlineShine! - OnlineShine! 2.0 - OnlineSocial Media & Virtual Awareness - OnlineSueño Infantil Seguro - En líneaThe Bump Life - OnlineThe Dad Difference: Stepping Up for Your Growing Family - OnlineThe Power of Kindness - OnlineTres Verdades que Debes Saber Sobre un Recien Nacido - En líneaDate(Required)\n                            \n                            MM slash DD slash YYYY\n                        \n                        First Name(Required)Last Name(Required)Date of Birth(Required)\n                            \n                            MM slash DD slash YYYY\n                        \n                        Phone(Required)Email(Required)\n                            \n                        If another adult is attending the class with you\, please tell us their name below.First NameLast NameDate\n                            \n                            MM slash DD slash YYYY\n                        \n                        PhoneIf you listed someone above\, what is their relationship to you?Are you bringing any children? If so\, how many?
URL:https://prestonwoodpregnancy.org/class/como-ayudar-a-mi-bebe-a-dormir-parte-i-online-4/
LOCATION:Zoom\, United States
CATEGORIES:Español En línea,Spanish Online
ORGANIZER;CN="Danella Lederer":MAILTO:danellasantana_g@yahoo.com
END:VEVENT
END:VCALENDAR